BEGIN:VCALENDAR
VERSION:2.0
PRODID:-//Support - ECPv6.6.3//NONSGML v1.0//EN
CALSCALE:GREGORIAN
METHOD:PUBLISH
X-WR-CALNAME:Support
X-ORIGINAL-URL:https://support.stdiis.net
X-WR-CALDESC:Events for Support
REFRESH-INTERVAL;VALUE=DURATION:PT1H
X-Robots-Tag:noindex
X-PUBLISHED-TTL:PT1H
BEGIN:VTIMEZONE
TZID:Asia/Krasnoyarsk
BEGIN:STANDARD
TZOFFSETFROM:+0700
TZOFFSETTO:+0700
TZNAME:+07
DTSTART:20230101T000000
END:STANDARD
END:VTIMEZONE
BEGIN:VEVENT
DTSTART;VALUE=DATE:20250127
DTEND;VALUE=DATE:20250128
DTSTAMP:20260421T073834
CREATED:20240812T043411Z
LAST-MODIFIED:20240812T052731Z
UID:323-1737936000-1738022399@support.stdiis.net
SUMMARY:Yudisium
DESCRIPTION:
URL:https://support.stdiis.net/event/yudisium-3/
CATEGORIES:TA 2024/2025 Gasal
END:VEVENT
BEGIN:VEVENT
DTSTART;VALUE=DATE:20250120
DTEND;VALUE=DATE:20250121
DTSTAMP:20260421T073834
CREATED:20240812T043317Z
LAST-MODIFIED:20240812T052731Z
UID:321-1737331200-1737417599@support.stdiis.net
SUMMARY:Batas Akhir Pengajuan Yudisium
DESCRIPTION:
URL:https://support.stdiis.net/event/batas-akhir-pengajuan-yudisium-3/
CATEGORIES:TA 2024/2025 Gasal
END:VEVENT
BEGIN:VEVENT
DTSTART;TZID=Asia/Krasnoyarsk:20250113T080000
DTEND;TZID=Asia/Krasnoyarsk:20250203T170000
DTSTAMP:20260421T073834
CREATED:20240812T043208Z
LAST-MODIFIED:20240812T052731Z
UID:319-1736755200-1738602000@support.stdiis.net
SUMMARY:Libur Semester Ganjil
DESCRIPTION:
URL:https://support.stdiis.net/event/libur-semester-ganjil-2/
CATEGORIES:TA 2024/2025 Gasal
END:VEVENT
BEGIN:VEVENT
DTSTART;TZID=Asia/Krasnoyarsk:20241230T080000
DTEND;TZID=Asia/Krasnoyarsk:20250111T170000
DTSTAMP:20260421T073834
CREATED:20240812T043012Z
LAST-MODIFIED:20240812T052731Z
UID:317-1735545600-1736614800@support.stdiis.net
SUMMARY:Ujian Akhir Semester (UAS)
DESCRIPTION:
URL:https://support.stdiis.net/event/ujian-akhir-semester-uas/
CATEGORIES:TA 2024/2025 Gasal
END:VEVENT
BEGIN:VEVENT
DTSTART;TZID=Asia/Krasnoyarsk:20241223T080000
DTEND;TZID=Asia/Krasnoyarsk:20241228T170000
DTSTAMP:20260421T073834
CREATED:20240812T042913Z
LAST-MODIFIED:20240812T052732Z
UID:315-1734940800-1735405200@support.stdiis.net
SUMMARY:Pekan Tenang
DESCRIPTION:
URL:https://support.stdiis.net/event/pekan-tenang/
CATEGORIES:TA 2024/2025 Gasal
END:VEVENT
BEGIN:VEVENT
DTSTART;VALUE=DATE:20241004
DTEND;VALUE=DATE:20241005
DTSTAMP:20260421T073834
CREATED:20240812T042824Z
LAST-MODIFIED:20240812T052732Z
UID:313-1728000000-1728086399@support.stdiis.net
SUMMARY:Ujian Tengah Semester (UTS)
DESCRIPTION:Mulai Ujian Tengah Semester (UTS)
URL:https://support.stdiis.net/event/ujian-tengah-semester-uts/
CATEGORIES:TA 2024/2025 Gasal
END:VEVENT
BEGIN:VEVENT
DTSTART;VALUE=DATE:20240912
DTEND;VALUE=DATE:20240913
DTSTAMP:20260421T073834
CREATED:20240812T042730Z
LAST-MODIFIED:20240812T052732Z
UID:311-1726099200-1726185599@support.stdiis.net
SUMMARY:Batas Akhir Pengajuan Cuti
DESCRIPTION:
URL:https://support.stdiis.net/event/batas-akhir-pengajuan-cuti-3/
CATEGORIES:TA 2024/2025 Gasal
END:VEVENT
BEGIN:VEVENT
DTSTART;VALUE=DATE:20240906
DTEND;VALUE=DATE:20240907
DTSTAMP:20260421T073834
CREATED:20240812T042516Z
LAST-MODIFIED:20240812T052732Z
UID:309-1725580800-1725667199@support.stdiis.net
SUMMARY:Koreksi KRS / Jadwal
DESCRIPTION:
URL:https://support.stdiis.net/event/koreksi-krs-jadwal-3/
CATEGORIES:TA 2024/2025 Gasal
END:VEVENT
BEGIN:VEVENT
DTSTART;TZID=Asia/Krasnoyarsk:20240902T080000
DTEND;TZID=Asia/Krasnoyarsk:20240905T170000
DTSTAMP:20260421T073834
CREATED:20240812T042326Z
LAST-MODIFIED:20240812T052732Z
UID:307-1725264000-1725555600@support.stdiis.net
SUMMARY:PKKMB & Pengisian Kartu Rencana Studi (KRS)
DESCRIPTION:
URL:https://support.stdiis.net/event/pkkmb-pengisian-kartu-rencana-studi-krs/
CATEGORIES:TA 2024/2025 Gasal
END:VEVENT
BEGIN:VEVENT
DTSTART;VALUE=DATE:20240826
DTEND;VALUE=DATE:20240827
DTSTAMP:20260421T073834
CREATED:20231016T115811Z
LAST-MODIFIED:20240823T023111Z
UID:298-1724630400-1724716799@support.stdiis.net
SUMMARY:Yudisium
DESCRIPTION:
URL:https://support.stdiis.net/event/yudisium-2/
CATEGORIES:TA 2023/2024 Genap
END:VEVENT
BEGIN:VEVENT
DTSTART;VALUE=DATE:20240812
DTEND;VALUE=DATE:20240813
DTSTAMP:20260421T073834
CREATED:20231016T115734Z
LAST-MODIFIED:20240823T023111Z
UID:296-1723420800-1723507199@support.stdiis.net
SUMMARY:Batas Akhir Pengajuan Yudisium
DESCRIPTION:
URL:https://support.stdiis.net/event/batas-akhir-pengajuan-yudisium-2/
CATEGORIES:TA 2023/2024 Genap
END:VEVENT
BEGIN:VEVENT
DTSTART;TZID=Asia/Krasnoyarsk:20240708T080000
DTEND;TZID=Asia/Krasnoyarsk:20240829T170000
DTSTAMP:20260421T073834
CREATED:20231016T112321Z
LAST-MODIFIED:20240823T023111Z
UID:294-1720425600-1724950800@support.stdiis.net
SUMMARY:Libur Semester Genap Dan Semester Pendek
DESCRIPTION:
URL:https://support.stdiis.net/event/libur-semester-genap-dan-semester-pendek/
CATEGORIES:TA 2023/2024 Genap
END:VEVENT
BEGIN:VEVENT
DTSTART;TZID=Asia/Krasnoyarsk:20240624T080000
DTEND;TZID=Asia/Krasnoyarsk:20240706T170000
DTSTAMP:20260421T073834
CREATED:20231016T112236Z
LAST-MODIFIED:20240823T023111Z
UID:292-1719216000-1720285200@support.stdiis.net
SUMMARY:Ujian Akhir Semester
DESCRIPTION:
URL:https://support.stdiis.net/event/ujian-akhir-semester-2/
CATEGORIES:TA 2023/2024 Genap
END:VEVENT
BEGIN:VEVENT
DTSTART;TZID=Asia/Krasnoyarsk:20240617T080000
DTEND;TZID=Asia/Krasnoyarsk:20240903T170000
DTSTAMP:20260421T073834
CREATED:20240812T042221Z
LAST-MODIFIED:20240812T052732Z
UID:305-1718611200-1725382800@support.stdiis.net
SUMMARY:Daftar Ulang & Pembayaran UKT Mahasiswa Lama
DESCRIPTION:Daftar Ulang & Pembayaran UKT Mahasiswa Lama
URL:https://support.stdiis.net/event/daftar-ulang-pembayaran-ukt-mahasiswa-lama/
CATEGORIES:TA 2024/2025 Gasal
END:VEVENT
BEGIN:VEVENT
DTSTART;TZID=Asia/Krasnoyarsk:20240617T080000
DTEND;TZID=Asia/Krasnoyarsk:20240622T170000
DTSTAMP:20260421T073834
CREATED:20231016T112142Z
LAST-MODIFIED:20240823T023111Z
UID:290-1718611200-1719075600@support.stdiis.net
SUMMARY:Pekan Idul Adha / Minggu Tenang
DESCRIPTION:
URL:https://support.stdiis.net/event/pekan-idul-adha-minggu-tenang/
CATEGORIES:TA 2023/2024 Genap
END:VEVENT
BEGIN:VEVENT
DTSTART;VALUE=DATE:20240529
DTEND;VALUE=DATE:20240530
DTSTAMP:20260421T073834
CREATED:20231016T112105Z
LAST-MODIFIED:20240823T023111Z
UID:288-1716940800-1717027199@support.stdiis.net
SUMMARY:Ujian Tengah Semester
DESCRIPTION:
URL:https://support.stdiis.net/event/ujian-tengah-semester-2/
CATEGORIES:TA 2023/2024 Genap
END:VEVENT
BEGIN:VEVENT
DTSTART;TZID=Asia/Krasnoyarsk:20240401T080000
DTEND;TZID=Asia/Krasnoyarsk:20240420T170000
DTSTAMP:20260421T073834
CREATED:20231016T112008Z
LAST-MODIFIED:20240823T023111Z
UID:286-1711958400-1713632400@support.stdiis.net
SUMMARY:Libur Ramadhan dan Idul Fitri
DESCRIPTION:
URL:https://support.stdiis.net/event/libur-ramadhan-dan-idul-fitri/
CATEGORIES:TA 2023/2024 Genap
END:VEVENT
BEGIN:VEVENT
DTSTART;VALUE=DATE:20240226
DTEND;VALUE=DATE:20240227
DTSTAMP:20260421T073834
CREATED:20231016T070938Z
LAST-MODIFIED:20240823T023111Z
UID:282-1708905600-1708991999@support.stdiis.net
SUMMARY:Wisudah Angkatan X
DESCRIPTION:
URL:https://support.stdiis.net/event/wisudah-angkatan-x/
CATEGORIES:TA 2023/2024 Genap
END:VEVENT
BEGIN:VEVENT
DTSTART;VALUE=DATE:20240215
DTEND;VALUE=DATE:20240216
DTSTAMP:20260421T073834
CREATED:20231016T070900Z
LAST-MODIFIED:20240823T023111Z
UID:280-1707955200-1708041599@support.stdiis.net
SUMMARY:Batas Akhir Pengajuan Cuti
DESCRIPTION:
URL:https://support.stdiis.net/event/batas-akhir-pengajuan-cuti-2/
CATEGORIES:TA 2023/2024 Genap
END:VEVENT
BEGIN:VEVENT
DTSTART;VALUE=DATE:20240212
DTEND;VALUE=DATE:20240213
DTSTAMP:20260421T073834
CREATED:20231016T070824Z
LAST-MODIFIED:20240823T023111Z
UID:278-1707696000-1707782399@support.stdiis.net
SUMMARY:Awal Kuliah
DESCRIPTION:
URL:https://support.stdiis.net/event/awal-kuliah-2/
CATEGORIES:TA 2023/2024 Genap
END:VEVENT
BEGIN:VEVENT
DTSTART;VALUE=DATE:20240210
DTEND;VALUE=DATE:20240211
DTSTAMP:20260421T073834
CREATED:20231016T050120Z
LAST-MODIFIED:20240823T023111Z
UID:276-1707523200-1707609599@support.stdiis.net
SUMMARY:Studium Generale
DESCRIPTION:
URL:https://support.stdiis.net/event/studium-generale/
CATEGORIES:TA 2023/2024 Genap
END:VEVENT
BEGIN:VEVENT
DTSTART;TZID=Asia/Krasnoyarsk:20240205T080000
DTEND;TZID=Asia/Krasnoyarsk:20240208T170000
DTSTAMP:20260421T073834
CREATED:20231016T045250Z
LAST-MODIFIED:20240823T023111Z
UID:271-1707120000-1707411600@support.stdiis.net
SUMMARY:Pengisian KRS
DESCRIPTION:
URL:https://support.stdiis.net/event/pengisian-krs/
CATEGORIES:TA 2023/2024 Genap
END:VEVENT
BEGIN:VEVENT
DTSTART;VALUE=DATE:20240129
DTEND;VALUE=DATE:20240130
DTSTAMP:20260421T073834
CREATED:20231016T024538Z
LAST-MODIFIED:20240823T023040Z
UID:266-1706486400-1706572799@support.stdiis.net
SUMMARY:Yudisium
DESCRIPTION:
URL:https://support.stdiis.net/event/yudisium/
CATEGORIES:TA 2023/2024 Gasal
END:VEVENT
BEGIN:VEVENT
DTSTART;VALUE=DATE:20240122
DTEND;VALUE=DATE:20240123
DTSTAMP:20260421T073834
CREATED:20231016T024510Z
LAST-MODIFIED:20240823T023041Z
UID:264-1705881600-1705967999@support.stdiis.net
SUMMARY:Batas Akhir Pengajuan Yudisium
DESCRIPTION:
URL:https://support.stdiis.net/event/batas-akhir-pengajuan-yudisium/
CATEGORIES:TA 2023/2024 Gasal
END:VEVENT
BEGIN:VEVENT
DTSTART;TZID=Asia/Krasnoyarsk:20240115T080000
DTEND;TZID=Asia/Krasnoyarsk:20240203T170000
DTSTAMP:20260421T073834
CREATED:20231016T024429Z
LAST-MODIFIED:20240823T023041Z
UID:262-1705305600-1706979600@support.stdiis.net
SUMMARY:Libur Semester Ganjil
DESCRIPTION:
URL:https://support.stdiis.net/event/libur-semester-ganjil/
CATEGORIES:TA 2023/2024 Gasal
END:VEVENT
BEGIN:VEVENT
DTSTART;TZID=Asia/Krasnoyarsk:20231225T080000
DTEND;TZID=Asia/Krasnoyarsk:20240206T170000
DTSTAMP:20260421T073834
CREATED:20231016T044827Z
LAST-MODIFIED:20240823T023111Z
UID:268-1703491200-1707238800@support.stdiis.net
SUMMARY:Daftar Ulang dan Pembayaran UKT
DESCRIPTION:
URL:https://support.stdiis.net/event/daftar-ulang-dan-pembayaran-ukt/
CATEGORIES:TA 2023/2024 Genap
END:VEVENT
BEGIN:VEVENT
DTSTART;TZID=Asia/Krasnoyarsk:20231225T080000
DTEND;TZID=Asia/Krasnoyarsk:20231230T170000
DTSTAMP:20260421T073834
CREATED:20231016T024122Z
LAST-MODIFIED:20240823T023041Z
UID:258-1703491200-1703955600@support.stdiis.net
SUMMARY:Minggu Tenang
DESCRIPTION:
URL:https://support.stdiis.net/event/minggu-tenang/
CATEGORIES:TA 2023/2024 Gasal
END:VEVENT
BEGIN:VEVENT
DTSTART;TZID=Asia/Krasnoyarsk:20231201T080000
DTEND;TZID=Asia/Krasnoyarsk:20231213T170000
DTSTAMP:20260421T073834
CREATED:20231016T024311Z
LAST-MODIFIED:20240823T023041Z
UID:260-1701417600-1702486800@support.stdiis.net
SUMMARY:Ujian Akhir Semester
DESCRIPTION:
URL:https://support.stdiis.net/event/ujian-akhir-semester/
CATEGORIES:TA 2023/2024 Gasal
END:VEVENT
BEGIN:VEVENT
DTSTART;VALUE=DATE:20231106
DTEND;VALUE=DATE:20231107
DTSTAMP:20260421T073834
CREATED:20231016T024013Z
LAST-MODIFIED:20240823T023041Z
UID:256-1699228800-1699315199@support.stdiis.net
SUMMARY:Ujian Tengah Semester
DESCRIPTION:
URL:https://support.stdiis.net/event/ujian-tengah-semester/
CATEGORIES:TA 2023/2024 Gasal
END:VEVENT
BEGIN:VEVENT
DTSTART;TZID=Asia/Krasnoyarsk:20231016T080000
DTEND;TZID=Asia/Krasnoyarsk:20231016T170000
DTSTAMP:20260421T073834
CREATED:20231016T045537Z
LAST-MODIFIED:20240823T023111Z
UID:273-1697443200-1697475600@support.stdiis.net
SUMMARY:Koreksi KRS/Jadwal
DESCRIPTION:
URL:https://support.stdiis.net/event/koreksi-krs-jadwal-2/
CATEGORIES:TA 2023/2024 Genap
END:VEVENT
END:VCALENDAR